BEGIN:VCALENDAR
VERSION:2.0
PRODID:spatie/icalendar-generator
DESCRIPTION:Events from Bismarck Art &amp;amp\; Galleries Association
X-WR-CALDESC:Events from Bismarck Art &amp;amp\; Galleries Association
REFRESH-INTERVAL;VALUE=DURATION:PT1440M
X-PUBLISHED-TTL:PT1440M
BEGIN:VTIMEZONE
TZID:America/North_Dakota/New_Salem
BEGIN:STANDARD
DTSTART:20251102T020000Z
TZOFFSETFROM:-0500
TZOFFSETTO:-0600
END:STANDARD
BEGIN:DAYLIGHT
DTSTART:20260308T020000Z
TZOFFSETFROM:-0600
TZOFFSETTO:-0500
END:DAYLIGHT
END:VTIMEZONE
BEGIN:VTIMEZONE
TZID:UTC
BEGIN:STANDARD
DTSTART:20250726T084725Z
TZOFFSETFROM:+0000
TZOFFSETTO:+0000
END:STANDARD
END:VTIMEZONE
BEGIN:VEVENT
UID:357-183
DTSTAMP:20260422T084725Z
SUMMARY:Exhibitions by Pride of Dakota Artists and Member Artist Laura Alle
 n
LOCATION:Bismarck Art &amp;amp\; Galleries Association 422 East Front Avenue  B
 ismarck ND 58504
ORGANIZER;CN=Jan Webb:MAILTO:jan@bismarck-art.org
RRULE:FREQ=DAILY;UNTIL=20260320T000000Z
DTSTART;TZID=America/North_Dakota/New_Salem:20260319T100000
DTEND;TZID=America/North_Dakota/New_Salem:20260319T170000
X-ALT-DESC;FMTTYPE=TEXT/HTML:Pride of Dakota will feature several of their 
 member artisans and photographers at this exclusive Pride of Dakota art ex
 hibition. Member artist Laura Allen “Drawn to Detail” - In this collec
 tion of recent works\, Laura Allen explores her return to the fundamentals
  of line and form. Through various mediumsgraphite\, charcoal\, ink\, and 
 others - Laura&amp;hellip\;
CATEGORIES:Exhibit,  General
URL;VALUE=URI:https://bismarck-art.org/mc-events/exhibitions-by-pride-of-da
 kota-artists-and-member-artist-laura-allen/?mc_id=357
METHOD:PUBLISH
END:VEVENT
END:VCALENDAR